BEGIN:VCALENDAR
VERSION:2.0
PRODID:-//École Normale Supérieure de Maroua - ECPv6.2.8.2//NONSGML v1.0//EN
CALSCALE:GREGORIAN
METHOD:PUBLISH
X-ORIGINAL-URL:https://www.ens.univ-maroua.cm
X-WR-CALDESC:évènements pour École Normale Supérieure de Maroua
REFRESH-INTERVAL;VALUE=DURATION:PT1H
X-Robots-Tag:noindex
X-PUBLISHED-TTL:PT1H
BEGIN:VTIMEZONE
TZID:Europe/Paris
BEGIN:DAYLIGHT
TZOFFSETFROM:+0100
TZOFFSETTO:+0200
TZNAME:CEST
DTSTART:20230326T010000
END:DAYLIGHT
BEGIN:STANDARD
TZOFFSETFROM:+0200
TZOFFSETTO:+0100
TZNAME:CET
DTSTART:20231029T010000
END:STANDARD
END:VTIMEZONE
BEGIN:VEVENT
DTSTART;VALUE=DATE:20231205
DTEND;VALUE=DATE:20231206
DTSTAMP:20260421T133024
CREATED:20231202T210432Z
LAST-MODIFIED:20231202T210900Z
UID:4494-1701734400-1701820799@www.ens.univ-maroua.cm
SUMMARY:Séminaire de pédagogie universitaire
DESCRIPTION:
URL:https://www.ens.univ-maroua.cm/index.php/event/seminaire-de-pedagogie-universitaire/
LOCATION:Campus de Kongola-Djoulgouf-Kodek\, Centre de Développement du Numérique Universitaire\, UMa (Cameroun)\, B.P : 45 Maroua\, Maroua\, Extrême-Nord\, Extrême-Nord\, 45\, Cameroun
CATEGORIES:education
END:VEVENT
BEGIN:VEVENT
DTSTART;VALUE=DATE:20231206
DTEND;VALUE=DATE:20231207
DTSTAMP:20260421T133024
CREATED:20231202T212144Z
LAST-MODIFIED:20231202T212144Z
UID:4501-1701820800-1701907199@www.ens.univ-maroua.cm
SUMMARY:Cérémonie de rentrée solennelle
DESCRIPTION:
URL:https://www.ens.univ-maroua.cm/index.php/event/ceremonie-de-rentree-solennelle/
LOCATION:Amphi 500\, Campus de Kongola-Djoulgouf-Kodek\, Maroua (Cameroun)\, Extrême-Nord (Cameroun)\, Maroua\, Maroua\, 45\, Cameroun
CATEGORIES:education
END:VEVENT
END:VCALENDAR